BEGIN:VCALENDAR
VERSION:2.0
PRODID:-//Foltvarrás - ECPv6.15.20//NONSGML v1.0//EN
CALSCALE:GREGORIAN
METHOD:PUBLISH
X-ORIGINAL-URL:https://foltvarro.hu
X-WR-CALDESC:Események Foltvarrás
REFRESH-INTERVAL;VALUE=DURATION:PT1H
X-Robots-Tag:noindex
X-PUBLISHED-TTL:PT1H
BEGIN:VTIMEZONE
TZID:Europe/Budapest
BEGIN:DAYLIGHT
TZOFFSETFROM:+0100
TZOFFSETTO:+0200
TZNAME:CEST
DTSTART:20240331T010000
END:DAYLIGHT
BEGIN:STANDARD
TZOFFSETFROM:+0200
TZOFFSETTO:+0100
TZNAME:CET
DTSTART:20241027T010000
END:STANDARD
BEGIN:DAYLIGHT
TZOFFSETFROM:+0100
TZOFFSETTO:+0200
TZNAME:CEST
DTSTART:20250330T010000
END:DAYLIGHT
BEGIN:STANDARD
TZOFFSETFROM:+0200
TZOFFSETTO:+0100
TZNAME:CET
DTSTART:20251026T010000
END:STANDARD
BEGIN:DAYLIGHT
TZOFFSETFROM:+0100
TZOFFSETTO:+0200
TZNAME:CEST
DTSTART:20260329T010000
END:DAYLIGHT
BEGIN:STANDARD
TZOFFSETFROM:+0200
TZOFFSETTO:+0100
TZNAME:CET
DTSTART:20261025T010000
END:STANDARD
END:VTIMEZONE
BEGIN:VEVENT
DTSTART;TZID=Europe/Budapest:20250912T180000
DTEND;TZID=Europe/Budapest:20250917T200000
DTSTAMP:20260423T110056
CREATED:20250826T064257Z
LAST-MODIFIED:20250826T064257Z
UID:22213-1757700000-1758139200@foltvarro.hu
SUMMARY:Foltszüret - Kapospula
DESCRIPTION:
URL:https://foltvarro.hu/esemenyek/foltszuret-kapospula/
LOCATION:Farkas József Kultúrház\, Kapospula\, Széchenyi u. 1\, Kapospula\, 7251\, Hungary
CATEGORIES:Címlapra
ATTACH;FMTTYPE=image/jpeg:https://foltvarro.hu/wp-content/uploads/2025/08/Kapospula-2025-szeptember-cimlap.jpg
END:VEVENT
BEGIN:VEVENT
DTSTART;TZID=Europe/Budapest:20250909T170000
DTEND;TZID=Europe/Budapest:20251010T000000
DTSTAMP:20260423T110056
CREATED:20250905T071920Z
LAST-MODIFIED:20250905T074919Z
UID:22234-1757437200-1760054400@foltvarro.hu
SUMMARY:Tiszavirág Foltvarró Kör kiállítása
DESCRIPTION:A Tiszaújvárosi Művelődési Központ és Könyvtár szeretettel meghívja Önt\, barátait és ismerőseit a \n\n30 éves Tiszavirág Foltvarró Kör\n„Még nyílnak a völgyben a kerti virágok” című kiállításának megnyitójára\n\n2025. szeptember 9. (kedd) 17:00 órára a Városi kiállítóterembe (3580 Tiszaújváros\, Barcsay tér 2-4.) \nA kiállítást megnyitja: Mátyás Zoltán igazgató \nKözreműködik: Tiszaújvárosi Derkovits Mazsorett Csoport \nLátogatható: 2025. október 10-ig. \nA belépés díjtalan. \n 
URL:https://foltvarro.hu/esemenyek/tiszavirag-foltvarro-kor-kiallitasa/
LOCATION:Tiszaújvárosi Művelődési Központ és Könyvtár Kiállítóterme\, Barcsay tér 2-4.\, Tiszaújváros\, 3580
CATEGORIES:Címlapra
ATTACH;FMTTYPE=image/jpeg:https://foltvarro.hu/wp-content/uploads/2025/09/Tiszaujvaros_2025-09-cimlap.jpg
END:VEVENT
BEGIN:VEVENT
DTSTART;TZID=Europe/Budapest:20250906T100000
DTEND;TZID=Europe/Budapest:20250912T000000
DTSTAMP:20260423T110056
CREATED:20250826T064614Z
LAST-MODIFIED:20250826T065234Z
UID:22217-1757152800-1757635200@foltvarro.hu
SUMMARY:Tulipán Foltvarró Klub kiállítása
DESCRIPTION:
URL:https://foltvarro.hu/esemenyek/tulipan-foltvarro-klub-kiallitasa/
LOCATION:Kultúrház – Nagyszénás\, Március 15. tér 1.\, Nagyszénás\, 5931\, Hungary
CATEGORIES:Címlapra
ATTACH;FMTTYPE=image/jpeg:https://foltvarro.hu/wp-content/uploads/2025/08/Tulipan-2025-szeptember-6-cimlap.jpg
END:VEVENT
BEGIN:VEVENT
DTSTART;TZID=Europe/Budapest:20250822T120000
DTEND;TZID=Europe/Budapest:20250824T150000
DTSTAMP:20260423T110056
CREATED:20250701T172539Z
LAST-MODIFIED:20250701T172757Z
UID:21388-1755864000-1756047600@foltvarro.hu
SUMMARY:OFF - Országos Foltvarró Fesztivál
DESCRIPTION:
URL:https://foltvarro.hu/esemenyek/off-orszagos-foltvarro-fesztival/
LOCATION:Klauzál Ház\, Nagytétényi út 31-33.\, Budapest\, 1222\, Hungary
CATEGORIES:Címlapra
ATTACH;FMTTYPE=image/jpeg:https://foltvarro.hu/wp-content/uploads/2021/05/1_off.jpg
END:VEVENT
BEGIN:VEVENT
DTSTART;TZID=Europe/Budapest:20250718T180000
DTEND;TZID=Europe/Budapest:20250718T180000
DTSTAMP:20260423T110056
CREATED:20250711T064150Z
LAST-MODIFIED:20250711T064340Z
UID:21394-1752861600-1752861600@foltvarro.hu
SUMMARY:Szín-világok\, a MOMÜ kiállítása
DESCRIPTION:
URL:https://foltvarro.hu/esemenyek/szin-vilagok-a-momu-kiallitasa/
LOCATION:Újpest\, Ifjúsági ház – Új galéria\, István úz 17-19.\, Budapest\, 1042\, Hungary
CATEGORIES:Címlapra
ATTACH;FMTTYPE=image/jpeg:https://foltvarro.hu/wp-content/uploads/2025/07/2025_julius_MOMU_meghivo_cimlap.jpg
END:VEVENT
BEGIN:VEVENT
DTSTART;TZID=Europe/Budapest:20250705T090000
DTEND;TZID=Europe/Budapest:20250705T120000
DTSTAMP:20260423T110056
CREATED:20250524T164631Z
LAST-MODIFIED:20250524T164631Z
UID:20646-1751706000-1751716800@foltvarro.hu
SUMMARY:Varrjunk a szabadban Tatabányán
DESCRIPTION:
URL:https://foltvarro.hu/esemenyek/varrjunk-a-szabadban-tatabanyan-2/
LOCATION:Tatabánya\, Puskin Művelődési Ház\, Kossuth Lajos u. 4.\, Tatabánya\, 2800\, Magyarország
CATEGORIES:Címlapra,Közös varrás
ATTACH;FMTTYPE=image/jpeg:https://foltvarro.hu/wp-content/uploads/2025/05/Varrjunk-a-szabadban-2025-Forgo-Orsok.jpg
END:VEVENT
BEGIN:VEVENT
DTSTART;TZID=Europe/Budapest:20250628T100000
DTEND;TZID=Europe/Budapest:20250628T100000
DTSTAMP:20260423T110056
CREATED:20250612T153831Z
LAST-MODIFIED:20250612T154138Z
UID:21165-1751104800-1751104800@foltvarro.hu
SUMMARY:Varrjunk a szabadban - a Deseda tónál
DESCRIPTION:
URL:https://foltvarro.hu/esemenyek/varrjunk-a-szabadban-a-deseda-tonaln-2/
LOCATION:Deseda tó\, Fekete István Látogatóközpont\, Deseda\, Hungary
CATEGORIES:Címlapra,Közös varrás
ATTACH;FMTTYPE=image/jpeg:https://foltvarro.hu/wp-content/uploads/2025/06/Varrjunk-a-szabadban-2025-Somogyaszalo-cimlap.jpg
END:VEVENT
BEGIN:VEVENT
DTSTART;TZID=Europe/Budapest:20250628T090000
DTEND;TZID=Europe/Budapest:20250628T150000
DTSTAMP:20260423T110056
CREATED:20250622T101541Z
LAST-MODIFIED:20250622T101541Z
UID:21255-1751101200-1751122800@foltvarro.hu
SUMMARY:Varrjunk a szabadban Pécsett
DESCRIPTION:
URL:https://foltvarro.hu/esemenyek/varrjunk-a-szabadban-pecsett/
LOCATION:Patchwork Porta\, Táncsics Mihály u. 62\, Pécs\, Magyarország
CATEGORIES:Címlapra,Közös varrás
ATTACH;FMTTYPE=image/png:https://foltvarro.hu/wp-content/uploads/2025/06/Varrjunk-a-szabadban-Pecsett-cimlap.png
END:VEVENT
BEGIN:VEVENT
DTSTART;TZID=Europe/Budapest:20250621T090000
DTEND;TZID=Europe/Budapest:20250621T150000
DTSTAMP:20260423T110056
CREATED:20250518T180918Z
LAST-MODIFIED:20250611T184057Z
UID:20347-1750496400-1750518000@foltvarro.hu
SUMMARY:Varrjunk a szabadban Mezőtúron
DESCRIPTION:Kedves Barátaink! \nIdén június 3. szombatján\, mint azt évek óta tesszük\, ismét összegyűlünk egy szép\, nyár eleji napon. \nA helyszín jó néhányotoknak\, akik évek óta résztvevői vagytok a méltán népszerű „Foltvarró Találkozó az Alföld közepén” című őszi rendezvényünknek\, már ismerős. \nIdén a Jász-Nagykun-Szolnok vármegyei\, több mint 25 éves foltvarró hagyományokkal rendelkező\, több mint 600 éves kisváros\, Mezőtúr ad otthont a Magyar Foltvarró Céh „Varrjunk a szabadban” országos rendezvényének. Szomszédos és távolabbi települések foltvarrói összefogtunk\, hogy felejthetetlen programot nyújthassunk nektek ezen a napon. \n\n\n\n\n \n\n\nA házigazdák\, a mezőtúri „fiatal” csoport a Tűvarázslók Foltvarró Baráti Kör\, Túr-Tű Foltvarró Szakkör\, a Martfűi Napraforgó Foltvarró Klub\, Szolnokról a Kamilla Foltvarró Klub\, Tiszaföldvárról a Tiszazug Kézműves és Foltvarró Kör\, és a gyomaendrődi Körös Körül Hímző és Foltvarró Kör tagjai készülnek jobbnál jobb ötletekkel erre a napra\, és várnak mindenkit szeretettel. Itt lesznek a kondorosi\, orosházi\, túrkevei szolnoki csoportok foltvarrói is. Ráadásul a mezőtúri Túr-Tű Foltvarró Szakkör a 25 éves jubileumát is ünnepli épp a rendezvényünkkel egy időben. \nA helyszín a Közösségi Ház előtti árnyas park\, rendezvény sátrakkal. Rossz idő esetén a Közösségi ház nagyterme és klubhelyiségei. \nTovábbi részletek: Varrjunk a szabadban Mezőtúron
URL:https://foltvarro.hu/esemenyek/varrjunk-a-szabadban-mezoturon/
LOCATION:Mezőtúr Közösségi Ház\, Szabadság tér 17.\, Mezőtúr\, 5400\, Hungary
CATEGORIES:Címlapra
ATTACH;FMTTYPE=image/jpeg:https://foltvarro.hu/wp-content/uploads/2025/05/Varrjunk-a-szabadban-2025-Mezotur-09.jpg
END:VEVENT
BEGIN:VEVENT
DTSTART;TZID=Europe/Budapest:20250621T080000
DTEND;TZID=Europe/Budapest:20250621T120000
DTSTAMP:20260423T110056
CREATED:20250608T074812Z
LAST-MODIFIED:20250608T082209Z
UID:21033-1750492800-1750507200@foltvarro.hu
SUMMARY:Varrjunk a szabadban - Kaposváron
DESCRIPTION:A Kaposfolt varrócsoport szeretettel meghívja a varrni szerető és tudó ismerőseit a hagyományos szabadtéri varrására. \n2025. június 21. szombat 08.00-12.00\nTüskevári Közösségi Ház udvarán\nKézi varrással\, filc anyagból készült\, csésze alakú tűtartót készítünk. \nRészvételi szándékát kérjük a Facebookon jelezze!
URL:https://foltvarro.hu/esemenyek/varrjunk-a-szabadban-kaposvaron-2/
LOCATION:Tüskevári Közösségi Ház\, Hajnóczy J. u. 15.\, Kaposvár\, Magyarország
CATEGORIES:Címlapra,Közös varrás
ATTACH;FMTTYPE=image/jpeg:https://foltvarro.hu/wp-content/uploads/2025/06/VarrjunkASzabadban-Kaposvaron-2025.jpg
END:VEVENT
BEGIN:VEVENT
DTSTART;TZID=Europe/Budapest:20250614T150000
DTEND;TZID=Europe/Budapest:20250614T150000
DTSTAMP:20260423T110056
CREATED:20250611T173859Z
LAST-MODIFIED:20250611T180414Z
UID:21145-1749913200-1749913200@foltvarro.hu
SUMMARY:Varrjunk a szabadban - Kapospulán
DESCRIPTION:
URL:https://foltvarro.hu/esemenyek/varrjunk-a-szabadban-kapospulan/
LOCATION:Kapospula\, Kapospula\, 7251\, Hungary
CATEGORIES:Címlapra,Közös varrás
ATTACH;FMTTYPE=image/jpeg:https://foltvarro.hu/wp-content/uploads/2025/06/Varrunk-a-szabadban-Kapospulan-2025-cimlap.jpg
END:VEVENT
BEGIN:VEVENT
DTSTART;TZID=Europe/Budapest:20250613T160000
DTEND;TZID=Europe/Budapest:20250613T160000
DTSTAMP:20260423T110056
CREATED:20250524T165243Z
LAST-MODIFIED:20250524T165431Z
UID:20655-1749830400-1749830400@foltvarro.hu
SUMMARY:Túr-Tű Foltvarró Szakkör jubileumi kiállítása
DESCRIPTION:
URL:https://foltvarro.hu/esemenyek/tur-tu-foltvarro-szakkor-jubileumi-kiallitasa/
LOCATION:Mezőtúr Közösségi Ház\, Szabadság tér 17.\, Mezőtúr\, 5400\, Hungary
CATEGORIES:Címlapra
ATTACH;FMTTYPE=image/jpeg:https://foltvarro.hu/wp-content/uploads/2025/05/Tur-Tu-kiallitas-2025-fejlec.jpg
END:VEVENT
BEGIN:VEVENT
DTSTART;TZID=Europe/Budapest:20250607T100000
DTEND;TZID=Europe/Budapest:20250607T100000
DTSTAMP:20260423T110056
CREATED:20250325T182315Z
LAST-MODIFIED:20250325T182613Z
UID:19694-1749290400-1749290400@foltvarro.hu
SUMMARY:Mázai Gyűszűvirág Foltvarró csoport közös varrása
DESCRIPTION:
URL:https://foltvarro.hu/esemenyek/mazai-gyuszuvirag-foltvarro-csoport-kozos-varrasa/
LOCATION:Mázai Művelődési Ház\, Kossuth u. 60\, Máza\, 7351\, Hungary
CATEGORIES:Címlapra,Közös varrás
END:VEVENT
BEGIN:VEVENT
DTSTART;TZID=Europe/Budapest:20250601T180000
DTEND;TZID=Europe/Budapest:20250601T180000
DTSTAMP:20260423T110056
CREATED:20250524T165037Z
LAST-MODIFIED:20250524T165037Z
UID:20649-1748800800-1748800800@foltvarro.hu
SUMMARY:Bökdösődő Foltvarró Kör kiállítása
DESCRIPTION:
URL:https://foltvarro.hu/esemenyek/bokdosodo-foltvarro-kor-kiallitasa/
LOCATION:Farkas József Kultúrház\, Kapospula\, Széchenyi u. 1\, Kapospula\, 7251\, Hungary
CATEGORIES:Címlapra
ATTACH;FMTTYPE=image/jpeg:https://foltvarro.hu/wp-content/uploads/2025/05/Bokdosodo-kiallitas-2025-fejlec.jpg
END:VEVENT
BEGIN:VEVENT
DTSTART;TZID=Europe/Budapest:20250531T100000
DTEND;TZID=Europe/Budapest:20250531T100000
DTSTAMP:20260423T110056
CREATED:20250518T133550Z
LAST-MODIFIED:20250518T133550Z
UID:20294-1748685600-1748685600@foltvarro.hu
SUMMARY:Algyői Foltvarrók kiállítása és szabadban varrás
DESCRIPTION:
URL:https://foltvarro.hu/esemenyek/algyoi-foltvarrok-kiallitasa-es-szabadban-varras/
LOCATION:Algyői Tájház\, Kastélykert u. 42\, Algyő
CATEGORIES:Címlapra,Közös varrás
ATTACH;FMTTYPE=image/jpeg:https://foltvarro.hu/wp-content/uploads/2025/05/Algyo-cimlap.jpg
END:VEVENT
BEGIN:VEVENT
DTSTART;TZID=Europe/Budapest:20250531T100000
DTEND;TZID=Europe/Budapest:20250531T100000
DTSTAMP:20260423T110056
CREATED:20250325T181516Z
LAST-MODIFIED:20250325T181708Z
UID:19689-1748685600-1748685600@foltvarro.hu
SUMMARY:Minden napra egy mesés blokk - 365-ös találkozó
DESCRIPTION:Találkozót szervezünk mindazoknak\, akik részt vettek 2024. évben a Kathryn Kerr által elindított takaró varrás kihíváson. Valamint szeretettel várjuk az előző évek alkotásait\, alkotóit is. Az esemény célja: online térből kilépve személyes találkozás\, ismerkedés mindazoknak\, akik ebben a remek kihívásban részt vettek\, vagy csak érdeklődtek. Megmutathatod\, elmesélheted\, lefényképezheted\, tapasztalatokat megoszthatod\, megkérdezheted. További részletek még alakulóban vannak. Folyamatosan tájékoztatunk benneteket. \n\n\n\n\n\n\nKedves érdeklődő hölgyek! (és Urak!) \nSzeretettel várunk Benneteket 2025. május 31-én 10 órakor a Békásmegyeri Közösségi Házba (1039 Budapest\, Csobánka tér 5.) \nA belépés ingyenes\, viszont regisztrációhoz kötött a várhatóan megjelenő létszám miatt. Számolnunk kell részben a közösségi ház befogadó képességével\, másrészt a bemutatandó kész/félkész/blokk állapotú takarók helyigényével. \nRegisztrációt az alábbi információkkal a teri@quiltery.hu e-mail címre várjuk: \n\nNév;\nérkezők száma;\n„csak” érdeklődő\, vagy hoz takarót/blokkokat?\n\nRészletek a Facebook eseménynél \nTótné Teri\, azaz Quiltery
URL:https://foltvarro.hu/esemenyek/minden-napra-egy-meses-blokk-365-os-talalkozo/
LOCATION:Békásmegyeri Közösségi Ház\, Csobánka tér 5.\, Budapest\, 1039\, Hungary
CATEGORIES:Címlapra
ATTACH;FMTTYPE=image/jpeg:https://foltvarro.hu/wp-content/uploads/2025/03/365-os-kihivas-1.jpg
END:VEVENT
BEGIN:VEVENT
DTSTART;TZID=Europe/Budapest:20250531T090000
DTEND;TZID=Europe/Budapest:20250531T143000
DTSTAMP:20260423T110056
CREATED:20250413T195707Z
LAST-MODIFIED:20250413T195707Z
UID:19806-1748682000-1748701800@foltvarro.hu
SUMMARY:Észak-magyarországi régiós foltvarró találkozó
DESCRIPTION: 
URL:https://foltvarro.hu/esemenyek/eszak-magyarorszagi-regios-foltvarro-talalkozo/
LOCATION:Tiszaújvárosi Művelődési Központ és Könyvtár Kiállítóterme\, Barcsay tér 2-4.\, Tiszaújváros\, 3580
CATEGORIES:Címlapra
ATTACH;FMTTYPE=image/jpeg:https://foltvarro.hu/wp-content/uploads/2025/04/Tiszaujvarosi-Regios-cimlap.jpg
END:VEVENT
BEGIN:VEVENT
DTSTART;TZID=Europe/Budapest:20250531T090000
DTEND;TZID=Europe/Budapest:20250531T130000
DTSTAMP:20260423T110056
CREATED:20250518T132858Z
LAST-MODIFIED:20250518T133104Z
UID:20286-1748682000-1748696400@foltvarro.hu
SUMMARY:Varrjunk a szabadban - Orosháza
DESCRIPTION:
URL:https://foltvarro.hu/esemenyek/varrjunk-a-szabadban-oroshaza/
LOCATION:Orosháza Árpád-kert\, Kossuth Lajos utca 3\, Orosháza\, 5900\, Hungary
CATEGORIES:Címlapra,Közös varrás
ATTACH;FMTTYPE=image/jpeg:https://foltvarro.hu/wp-content/uploads/2025/05/Oroshaza-cimlap.jpg
END:VEVENT
BEGIN:VEVENT
DTSTART;TZID=Europe/Budapest:20250524T090000
DTEND;TZID=Europe/Budapest:20250524T140000
DTSTAMP:20260423T110056
CREATED:20250413T193351Z
LAST-MODIFIED:20250413T193351Z
UID:19791-1748077200-1748095200@foltvarro.hu
SUMMARY:Nyugat-Dunántúli régiós foltvarró találkozó
DESCRIPTION: 
URL:https://foltvarro.hu/esemenyek/nyugat-dunantuli-regios-foltvarro-talalkozo/
LOCATION:Göcseji Tudásközpont\, Piac tér 3.\, Zalaegerszeg\, 8900\, Hungary
CATEGORIES:Címlapra
ATTACH;FMTTYPE=image/jpeg:https://foltvarro.hu/wp-content/uploads/2025/04/Zalaegerszegi-Regios-cimlap.jpg
END:VEVENT
BEGIN:VEVENT
DTSTART;TZID=Europe/Budapest:20250510T120000
DTEND;TZID=Europe/Budapest:20250510T120000
DTSTAMP:20260423T110056
CREATED:20250505T162007Z
LAST-MODIFIED:20250505T162234Z
UID:20153-1746878400-1746878400@foltvarro.hu
SUMMARY:MFC Közgyűlése
DESCRIPTION:Szeretettel meghívjuk a Magyar Foltvarró Céh minden tagját az éves Közgyűlésünkre 2025. május 10-én 12:00-ra. \nIdén rendhagyó környezetben\, Debrecenbe várunk titeket\, ahol a debreceni Szivárvány Foltvarró Csoport 30 éves munkáját összegző jubileumi kiállítás megnyitó napjának keretében tartjuk meg rendes éves közgyűlésünket. \nRészvételedre feltétlenül számítunk. \nA közgyűlés akkor határozatképes\, ha a szavazati joggal rendelkező tagok több mint 50 %-a jelen van. \nAmennyiben a közgyűlés határozatképtelen\, akkor a megismételt közgyűlést ugyanezen a helyen 2025. május 10-én 12:10-kor tartjuk meg. A megismételt közgyűlés a jelenlévő tagok számától függetlenül határozatképes. \nHelyszín: DEMKI Újkerti Közösségi Ház és Könyvtár\n4032 Debrecen\, Jerikó u. 17-19.
URL:https://foltvarro.hu/esemenyek/mfc-kozgyulese/
LOCATION:DEMKI Újkerti Közösségi Ház és Könyvtár\, Jerikó u. 17-19.\, Debrecen\, 4032\, Hungary
CATEGORIES:Címlapra
ATTACH;FMTTYPE=image/jpeg:https://foltvarro.hu/wp-content/uploads/2021/05/logo_kicsi.jpg
END:VEVENT
BEGIN:VEVENT
DTSTART;TZID=Europe/Budapest:20250510T100000
DTEND;TZID=Europe/Budapest:20250510T100000
DTSTAMP:20260423T110056
CREATED:20250505T162826Z
LAST-MODIFIED:20250505T163052Z
UID:20158-1746871200-1746871200@foltvarro.hu
SUMMARY:Szivárvány Foltvarró csoport Jubileumi kiállítása
DESCRIPTION:Múlt\, jelen\, jövő! – Hogyan lettem foltvarró?\nA 30 éves Szivárvány Foltvarró csoport kiállításának megnyitója \nA kiállítás megtekinthető 2025. május 23-ig a közösségi ház nyitvatartási idejében. \n 
URL:https://foltvarro.hu/esemenyek/szivarvany-foltvarro-csoport-jubileumi-kiallitasa/
LOCATION:DEMKI Újkerti Közösségi Ház és Könyvtár\, Jerikó u. 17-19.\, Debrecen\, 4032\, Hungary
CATEGORIES:Címlapra
ATTACH;FMTTYPE=image/jpeg:https://foltvarro.hu/wp-content/uploads/2025/03/szivarvany-Debrecen-2025.jpg
END:VEVENT
BEGIN:VEVENT
DTSTART;TZID=Europe/Budapest:20250509T170000
DTEND;TZID=Europe/Budapest:20250509T170000
DTSTAMP:20260423T110056
CREATED:20250325T181232Z
LAST-MODIFIED:20250325T182040Z
UID:19687-1746810000-1746810000@foltvarro.hu
SUMMARY:Életem foltjai – Gelencsérné Lazarovits Klára búcsú kiállítása
DESCRIPTION:
URL:https://foltvarro.hu/esemenyek/eletem-foltjai-gelencserne-lazarovits-klara-bucsu-kiallitasa/
LOCATION:Békásmegyeri Közösségi Ház\, Csobánka tér 5.\, Budapest\, 1039\, Hungary
CATEGORIES:Címlapra
ATTACH;FMTTYPE=image/jpeg:https://foltvarro.hu/wp-content/uploads/2025/03/Gelencser-Klari-cimlapkep.jpg
END:VEVENT
BEGIN:VEVENT
DTSTART;TZID=Europe/Budapest:20250426T090000
DTEND;TZID=Europe/Budapest:20250426T090000
DTSTAMP:20260423T110056
CREATED:20250311T192109Z
LAST-MODIFIED:20250315T184738Z
UID:18837-1745658000-1745658000@foltvarro.hu
SUMMARY:Mezőfolt Foltvarró Klub közös varrása
DESCRIPTION:
URL:https://foltvarro.hu/esemenyek/mezofolt-foltvarro-klub-kozos-varrasa/
LOCATION:Petőfi Sándor Általános Iskola\, József Nádor u. 13\, Mezőfalva\, 2422\, Hungary
CATEGORIES:Címlapra,Közös varrás
ATTACH;FMTTYPE=image/jpeg:https://foltvarro.hu/wp-content/uploads/2025/03/mezofolt_cimlap-1.jpg
END:VEVENT
BEGIN:VEVENT
DTSTART;TZID=Europe/Budapest:20250426T000000
DTEND;TZID=Europe/Budapest:20250426T000000
DTSTAMP:20260423T110056
CREATED:20250413T201916Z
LAST-MODIFIED:20250413T201916Z
UID:19814-1745625600-1745625600@foltvarro.hu
SUMMARY:Fotók beküldése szívpárnákról és tarisznyákról
DESCRIPTION:Az Ikeának el kell számolnunk a tőlük kapott anyagok jótékonysági célú felhasználásával. Kérjük\, hogy aki vitt el anyagokat\, az 2025. április 26-ig küldje el az elkészített szívpárnákról/tarisznyákról és az átadásról készült fotót.
URL:https://foltvarro.hu/esemenyek/fotok-bekuldese-szivparnakrol-es-tarisznyakrol/
CATEGORIES:Határidő
END:VEVENT
BEGIN:VEVENT
DTSTART;TZID=Europe/Budapest:20250425T180000
DTEND;TZID=Europe/Budapest:20250425T180000
DTSTAMP:20260423T110056
CREATED:20250421T072145Z
LAST-MODIFIED:20250421T072625Z
UID:19914-1745604000-1745604000@foltvarro.hu
SUMMARY:Kölcsönhatások - a Modern Műhely alkotócsoport kiállítása
DESCRIPTION:
URL:https://foltvarro.hu/esemenyek/kolcsonhatasok-a-modern-muhely-alkotocsoport-kiallitasa/
LOCATION:KAPTÁR\, Révay köz 4.\, Budapest\, 1065\, Hungary
CATEGORIES:Címlapra
ATTACH;FMTTYPE=image/jpeg:https://foltvarro.hu/wp-content/uploads/2025/04/ModernMuhely-meghivo_cimlap.jpg
END:VEVENT
END:VCALENDAR