BEGIN:VCALENDAR
VERSION:2.0
PRODID:-//Foltvarrás - ECPv6.15.20//NONSGML v1.0//EN
CALSCALE:GREGORIAN
METHOD:PUBLISH
X-WR-CALNAME:Foltvarrás
X-ORIGINAL-URL:https://foltvarro.hu
X-WR-CALDESC:Események Foltvarrás
REFRESH-INTERVAL;VALUE=DURATION:PT1H
X-Robots-Tag:noindex
X-PUBLISHED-TTL:PT1H
BEGIN:VTIMEZONE
TZID:Europe/Budapest
BEGIN:DAYLIGHT
TZOFFSETFROM:+0100
TZOFFSETTO:+0200
TZNAME:CEST
DTSTART:20240331T010000
END:DAYLIGHT
BEGIN:STANDARD
TZOFFSETFROM:+0200
TZOFFSETTO:+0100
TZNAME:CET
DTSTART:20241027T010000
END:STANDARD
BEGIN:DAYLIGHT
TZOFFSETFROM:+0100
TZOFFSETTO:+0200
TZNAME:CEST
DTSTART:20250330T010000
END:DAYLIGHT
BEGIN:STANDARD
TZOFFSETFROM:+0200
TZOFFSETTO:+0100
TZNAME:CET
DTSTART:20251026T010000
END:STANDARD
BEGIN:DAYLIGHT
TZOFFSETFROM:+0100
TZOFFSETTO:+0200
TZNAME:CEST
DTSTART:20260329T010000
END:DAYLIGHT
BEGIN:STANDARD
TZOFFSETFROM:+0200
TZOFFSETTO:+0100
TZNAME:CET
DTSTART:20261025T010000
END:STANDARD
BEGIN:DAYLIGHT
TZOFFSETFROM:+0100
TZOFFSETTO:+0200
TZNAME:CEST
DTSTART:20270328T010000
END:DAYLIGHT
BEGIN:STANDARD
TZOFFSETFROM:+0200
TZOFFSETTO:+0100
TZNAME:CET
DTSTART:20271031T010000
END:STANDARD
END:VTIMEZONE
BEGIN:VEVENT
DTSTART;TZID=Europe/Budapest:20251113T140000
DTEND;TZID=Europe/Budapest:20260726T180000
DTSTAMP:20260423T105921
CREATED:20251121T180109Z
LAST-MODIFIED:20260202T183402Z
UID:23831-1763042400-1785088800@foltvarro.hu
SUMMARY:Foltvarrás kékben kiállítás
DESCRIPTION:A Néprajzi Múzeum és a Magyar Foltvarró Céh szeretettel hív minden kedves érdeklődőt a Foltvarrás kékben című időszakos kiállításra. \n2025. november 13. –  2026. július 26-ig \n 
URL:https://foltvarro.hu/esemenyek/foltvarras-kekben-kiallitas-a/
LOCATION:Néprajzi Múzeum\, Dózsa György út 35.\, Budapest\, 1146\, Hungary
CATEGORIES:Címlapra
ATTACH;FMTTYPE=image/jpeg:https://foltvarro.hu/wp-content/uploads/2025/07/neprajzi-logo-quilt.jpg
END:VEVENT
BEGIN:VEVENT
DTSTART;TZID=Europe/Budapest:20260523T090000
DTEND;TZID=Europe/Budapest:20260609T170000
DTSTAMP:20260423T105921
CREATED:20260209T174758Z
LAST-MODIFIED:20260209T174758Z
UID:25005-1779526800-1781024400@foltvarro.hu
SUMMARY:Hunyor Foltvarró Kör kiállítása és varrónapja
DESCRIPTION:
URL:https://foltvarro.hu/esemenyek/hunyor-foltvarro-kor-kiallitasa-es-varronapja/
LOCATION:PKK Apáczai Művelődési Ház\, Apáczai Csere János körtér 1/D. épület\, Pécs\, 7632\, Hungary
CATEGORIES:Címlapra,Közös varrás
ATTACH;FMTTYPE=image/jpeg:https://foltvarro.hu/wp-content/uploads/2026/02/hunyor-2026-majus-cimlap.jpg
END:VEVENT
BEGIN:VEVENT
DTSTART;TZID=Europe/Budapest:20260606T100000
DTEND;TZID=Europe/Budapest:20260606T210000
DTSTAMP:20260423T105921
CREATED:20260202T184137Z
LAST-MODIFIED:20260209T174252Z
UID:24968-1780740000-1780779600@foltvarro.hu
SUMMARY:A mázai Gyűszűvirág Foltvarró csoport közös varrása
DESCRIPTION:
URL:https://foltvarro.hu/esemenyek/a-mazai-gyuszuvirag-foltvarro-csoport-kozos-varrasa/
LOCATION:Mázai Művelődési Ház\, Kossuth u. 60\, Máza\, 7351\, Hungary
CATEGORIES:Címlapra
ATTACH;FMTTYPE=image/png:https://foltvarro.hu/wp-content/uploads/2026/02/Gyuszuvirag-2026-junius.png
END:VEVENT
BEGIN:VEVENT
DTSTART;TZID=Europe/Budapest:20260626T140000
DTEND;TZID=Europe/Budapest:20260628T150000
DTSTAMP:20260423T105921
CREATED:20260420T152008Z
LAST-MODIFIED:20260420T152023Z
UID:26080-1782482400-1782658800@foltvarro.hu
SUMMARY:Hosszú foltos hétvége Egerben
DESCRIPTION:
URL:https://foltvarro.hu/esemenyek/hosszu-foltos-hetvege-egerben/
LOCATION:Egri Lenkey János Általános Iskola\, Markhot Ferenc u. 6\, Eger\, Hungary
CATEGORIES:Címlapra
ATTACH;FMTTYPE=image/png:https://foltvarro.hu/wp-content/uploads/2026/04/Folt-Tunderek-tabor-2026-cimlap.png
END:VEVENT
END:VCALENDAR