BEGIN:VCALENDAR
VERSION:2.0
PRODID:-//Foltvarrás - ECPv6.15.20//NONSGML v1.0//EN
CALSCALE:GREGORIAN
METHOD:PUBLISH
X-WR-CALNAME:Foltvarrás
X-ORIGINAL-URL:https://foltvarro.hu
X-WR-CALDESC:Események Foltvarrás
REFRESH-INTERVAL;VALUE=DURATION:PT1H
X-Robots-Tag:noindex
X-PUBLISHED-TTL:PT1H
BEGIN:VTIMEZONE
TZID:Europe/Budapest
BEGIN:DAYLIGHT
TZOFFSETFROM:+0100
TZOFFSETTO:+0200
TZNAME:CEST
DTSTART:20240331T010000
END:DAYLIGHT
BEGIN:STANDARD
TZOFFSETFROM:+0200
TZOFFSETTO:+0100
TZNAME:CET
DTSTART:20241027T010000
END:STANDARD
BEGIN:DAYLIGHT
TZOFFSETFROM:+0100
TZOFFSETTO:+0200
TZNAME:CEST
DTSTART:20250330T010000
END:DAYLIGHT
BEGIN:STANDARD
TZOFFSETFROM:+0200
TZOFFSETTO:+0100
TZNAME:CET
DTSTART:20251026T010000
END:STANDARD
BEGIN:DAYLIGHT
TZOFFSETFROM:+0100
TZOFFSETTO:+0200
TZNAME:CEST
DTSTART:20260329T010000
END:DAYLIGHT
BEGIN:STANDARD
TZOFFSETFROM:+0200
TZOFFSETTO:+0100
TZNAME:CET
DTSTART:20261025T010000
END:STANDARD
BEGIN:DAYLIGHT
TZOFFSETFROM:+0100
TZOFFSETTO:+0200
TZNAME:CEST
DTSTART:20270328T010000
END:DAYLIGHT
BEGIN:STANDARD
TZOFFSETFROM:+0200
TZOFFSETTO:+0100
TZNAME:CET
DTSTART:20271031T010000
END:STANDARD
END:VTIMEZONE
BEGIN:VEVENT
DTSTART;TZID=Europe/Budapest:20251113T140000
DTEND;TZID=Europe/Budapest:20260726T180000
DTSTAMP:20260421T162820
CREATED:20251121T180109Z
LAST-MODIFIED:20260202T183402Z
UID:23831-1763042400-1785088800@foltvarro.hu
SUMMARY:Foltvarrás kékben kiállítás
DESCRIPTION:A Néprajzi Múzeum és a Magyar Foltvarró Céh szeretettel hív minden kedves érdeklődőt a Foltvarrás kékben című időszakos kiállításra. \n2025. november 13. –  2026. július 26-ig \n 
URL:https://foltvarro.hu/esemenyek/foltvarras-kekben-kiallitas-a/
LOCATION:Néprajzi Múzeum\, Dózsa György út 35.\, Budapest\, 1146\, Hungary
CATEGORIES:Címlapra
ATTACH;FMTTYPE=image/jpeg:https://foltvarro.hu/wp-content/uploads/2025/07/neprajzi-logo-quilt.jpg
END:VEVENT
BEGIN:VEVENT
DTSTART;TZID=Europe/Budapest:20251129T100000
DTEND;TZID=Europe/Budapest:20260107T000000
DTSTAMP:20260421T162821
CREATED:20250921T135507Z
LAST-MODIFIED:20251023T082633Z
UID:23015-1764410400-1767744000@foltvarro.hu
SUMMARY:Békási Foltvarrók Gyűjteményes című kiállítása
DESCRIPTION:
URL:https://foltvarro.hu/esemenyek/23015/
LOCATION:Békásmegyeri Közösségi Ház\, Csobánka tér 5.\, Budapest\, 1039\, Hungary
CATEGORIES:Címlapra
ATTACH;FMTTYPE=image/jpeg:https://foltvarro.hu/wp-content/uploads/2025/09/Bekasmegyer-2025nov-cimlap.jpg
END:VEVENT
BEGIN:VEVENT
DTSTART;TZID=Europe/Budapest:20260123T180000
DTEND;TZID=Europe/Budapest:20260123T180000
DTSTAMP:20260421T162821
CREATED:20260118T120900Z
LAST-MODIFIED:20260118T120924Z
UID:24671-1769191200-1769191200@foltvarro.hu
SUMMARY:Kézjegyek - a Modern Műhely kiállítása
DESCRIPTION:
URL:https://foltvarro.hu/esemenyek/kezjegyek-a-modern-muhely-kiallitasa/
LOCATION:Polgár Centrum – Újpest Galéria\, Árpád út 66.\, Budapest\, 1042\, Hungary
CATEGORIES:Címlapra
ATTACH;FMTTYPE=image/jpeg:https://foltvarro.hu/wp-content/uploads/2026/01/ModernMuhely-2026januar-cimlap.jpg
END:VEVENT
BEGIN:VEVENT
DTSTART;TZID=Europe/Budapest:20260129T140000
DTEND;TZID=Europe/Budapest:20260212T150000
DTSTAMP:20260421T162821
CREATED:20260119T172030Z
LAST-MODIFIED:20260119T172030Z
UID:24692-1769695200-1770908400@foltvarro.hu
SUMMARY:Kaposfolt varrócsoport kiállítása
DESCRIPTION:Meghívó\nSzeretettel várunk minden kedves érdeklődőt a Kaposfolt varrócsoport kiállítására. \nHelyszín: a volt Pécsi Utcai Általános Iskola (7400 Kaposvár\, Pécsi utca 45.) \nA megnyitó időpontja: 2026. január 29. csütörtök 14. 00 óra \nA kiállítás megtekinthető: 2026. február 12-ig  09.00 – 15. 00 óra között
URL:https://foltvarro.hu/esemenyek/kaposfolt-varrocsoport-kiallitasa/
LOCATION:volt Pécsi utcai Általános Iskola\, Pécsi utca 45.\, Kaposvár\, 7400
CATEGORIES:Címlapra
ATTACH;FMTTYPE=image/jpeg:https://foltvarro.hu/wp-content/uploads/2026/01/Kaposfolt2026.jpg
END:VEVENT
BEGIN:VEVENT
DTSTART;TZID=Europe/Budapest:20260131T140000
DTEND;TZID=Europe/Budapest:20260131T180000
DTSTAMP:20260421T162821
CREATED:20260120T185317Z
LAST-MODIFIED:20260120T185317Z
UID:24744-1769868000-1769882400@foltvarro.hu
SUMMARY:Varrós délután Kapospulán
DESCRIPTION:
URL:https://foltvarro.hu/esemenyek/varros-delutan-kapospulan/
LOCATION:Kapospula\, Kapospula\, 7251\, Hungary
CATEGORIES:Címlapra
ATTACH;FMTTYPE=image/jpeg:https://foltvarro.hu/wp-content/uploads/2026/01/Kapospula-2026-cimlap.jpg
END:VEVENT
END:VCALENDAR