BEGIN:VCALENDAR
VERSION:2.0
PRODID:-//Foltvarrás - ECPv6.15.20//NONSGML v1.0//EN
CALSCALE:GREGORIAN
METHOD:PUBLISH
X-ORIGINAL-URL:https://foltvarro.hu
X-WR-CALDESC:Események Foltvarrás
REFRESH-INTERVAL;VALUE=DURATION:PT1H
X-Robots-Tag:noindex
X-PUBLISHED-TTL:PT1H
BEGIN:VTIMEZONE
TZID:Europe/Budapest
BEGIN:DAYLIGHT
TZOFFSETFROM:+0100
TZOFFSETTO:+0200
TZNAME:CEST
DTSTART:20240331T010000
END:DAYLIGHT
BEGIN:STANDARD
TZOFFSETFROM:+0200
TZOFFSETTO:+0100
TZNAME:CET
DTSTART:20241027T010000
END:STANDARD
BEGIN:DAYLIGHT
TZOFFSETFROM:+0100
TZOFFSETTO:+0200
TZNAME:CEST
DTSTART:20250330T010000
END:DAYLIGHT
BEGIN:STANDARD
TZOFFSETFROM:+0200
TZOFFSETTO:+0100
TZNAME:CET
DTSTART:20251026T010000
END:STANDARD
BEGIN:DAYLIGHT
TZOFFSETFROM:+0100
TZOFFSETTO:+0200
TZNAME:CEST
DTSTART:20260329T010000
END:DAYLIGHT
BEGIN:STANDARD
TZOFFSETFROM:+0200
TZOFFSETTO:+0100
TZNAME:CET
DTSTART:20261025T010000
END:STANDARD
BEGIN:DAYLIGHT
TZOFFSETFROM:+0100
TZOFFSETTO:+0200
TZNAME:CEST
DTSTART:20270328T010000
END:DAYLIGHT
BEGIN:STANDARD
TZOFFSETFROM:+0200
TZOFFSETTO:+0100
TZNAME:CET
DTSTART:20271031T010000
END:STANDARD
END:VTIMEZONE
BEGIN:VEVENT
DTSTART;TZID=Europe/Budapest:20251014T180000
DTEND;TZID=Europe/Budapest:20251130T000000
DTSTAMP:20260421T200326
CREATED:20251001T182320Z
LAST-MODIFIED:20251124T201225Z
UID:23166-1760464800-1764460800@foltvarro.hu
SUMMARY:A Foltos Kékmadár Foltvarró csoport kiállítása
DESCRIPTION:A kiállítás november 30-ig tekinthető meg a Művelődési Ház nyitvatartási idejében.
URL:https://foltvarro.hu/esemenyek/a-foltos-kekmadar-foltvarro-csoport-kiallitasa/
LOCATION:Dombóvári Művelődési Ház\, Hunyadi tér 25.\, Dombóvár\, 7200\, Hungary
ATTACH;FMTTYPE=image/jpeg:https://foltvarro.hu/wp-content/uploads/2025/10/Kekmadar-2025-oktober-cimlap.jpg
END:VEVENT
BEGIN:VEVENT
DTSTART;TZID=Europe/Budapest:20251108T100000
DTEND;TZID=Europe/Budapest:20251108T100000
DTSTAMP:20260421T200326
CREATED:20250715T173154Z
LAST-MODIFIED:20250715T173207Z
UID:21437-1762596000-1762596000@foltvarro.hu
SUMMARY:„Ezt jól kifőztük” – a Tatabányai Forgó-Orsók rendhagyó közös főzése
DESCRIPTION:
URL:https://foltvarro.hu/esemenyek/ezt-jol-kifoztuk-a-tatabanyai-forgo-orsok-rendhagyo-kozos-fozese/
LOCATION:Tatabánya\, Puskin Művelődési Ház\, Kossuth Lajos u. 4.\, Tatabánya\, 2800\, Magyarország
CATEGORIES:Címlapra,Közös varrás
ATTACH;FMTTYPE=image/png:https://foltvarro.hu/wp-content/uploads/2025/07/Ezt-jol-kifoztuk-Tatabanya-cimlap.png
END:VEVENT
BEGIN:VEVENT
DTSTART;TZID=Europe/Budapest:20251113T140000
DTEND;TZID=Europe/Budapest:20251113T140000
DTSTAMP:20260421T200326
CREATED:20250921T140630Z
LAST-MODIFIED:20250921T140757Z
UID:23022-1763042400-1763042400@foltvarro.hu
SUMMARY:Foltvarrás kékben kiállítás megnyitója
DESCRIPTION:A Néprajzi Múzeum és a Magyar Foltvarró Céh szeretettel hív minden kedves érdeklődőt az ünnepélyes kiállításmegnyitóra. \nIdőpont: 2025. november 13. (csütörtök) 14:00 \nHelyszín: 1146 Budapest\, Dózsa György út 35.
URL:https://foltvarro.hu/esemenyek/foltvarras-kekben-kiallitas-megnyitoja/
LOCATION:Néprajzi Múzeum\, Dózsa György út 35.\, Budapest\, 1146\, Hungary
CATEGORIES:Címlapra
ATTACH;FMTTYPE=image/jpeg:https://foltvarro.hu/wp-content/uploads/2025/07/neprajzi-logo-quilt.jpg
END:VEVENT
BEGIN:VEVENT
DTSTART;TZID=Europe/Budapest:20251113T140000
DTEND;TZID=Europe/Budapest:20260726T180000
DTSTAMP:20260421T200326
CREATED:20251121T180109Z
LAST-MODIFIED:20260202T183402Z
UID:23831-1763042400-1785088800@foltvarro.hu
SUMMARY:Foltvarrás kékben kiállítás
DESCRIPTION:A Néprajzi Múzeum és a Magyar Foltvarró Céh szeretettel hív minden kedves érdeklődőt a Foltvarrás kékben című időszakos kiállításra. \n2025. november 13. –  2026. július 26-ig \n 
URL:https://foltvarro.hu/esemenyek/foltvarras-kekben-kiallitas-a/
LOCATION:Néprajzi Múzeum\, Dózsa György út 35.\, Budapest\, 1146\, Hungary
CATEGORIES:Címlapra
ATTACH;FMTTYPE=image/jpeg:https://foltvarro.hu/wp-content/uploads/2025/07/neprajzi-logo-quilt.jpg
END:VEVENT
BEGIN:VEVENT
DTSTART;TZID=Europe/Budapest:20251119T170000
DTEND;TZID=Europe/Budapest:20251206T170000
DTSTAMP:20260421T200326
CREATED:20251023T083040Z
LAST-MODIFIED:20251023T083040Z
UID:23238-1763571600-1765040400@foltvarro.hu
SUMMARY:Foltról foltra - az Egri Kolping Foltvarró csoport kiállítása
DESCRIPTION:
URL:https://foltvarro.hu/esemenyek/foltrol-foltra-az-egri-kolping-foltvarro-csoport-kiallitasa/
LOCATION:Bartakovics Béla Közösségi Ház\, Eger\, Knézich Károly u. 8\, Eger\, 3300\, Hungary
CATEGORIES:Címlapra
ATTACH;FMTTYPE=image/jpeg:https://foltvarro.hu/wp-content/uploads/2025/09/KOLPING-2025nov-cimlap.jpg
END:VEVENT
BEGIN:VEVENT
DTSTART;TZID=Europe/Budapest:20251129T100000
DTEND;TZID=Europe/Budapest:20260107T000000
DTSTAMP:20260421T200326
CREATED:20250921T135507Z
LAST-MODIFIED:20251023T082633Z
UID:23015-1764410400-1767744000@foltvarro.hu
SUMMARY:Békási Foltvarrók Gyűjteményes című kiállítása
DESCRIPTION:
URL:https://foltvarro.hu/esemenyek/23015/
LOCATION:Békásmegyeri Közösségi Ház\, Csobánka tér 5.\, Budapest\, 1039\, Hungary
CATEGORIES:Címlapra
ATTACH;FMTTYPE=image/jpeg:https://foltvarro.hu/wp-content/uploads/2025/09/Bekasmegyer-2025nov-cimlap.jpg
END:VEVENT
BEGIN:VEVENT
DTSTART;TZID=Europe/Budapest:20251129T150000
DTEND;TZID=Europe/Budapest:20251129T150000
DTSTAMP:20260421T200326
CREATED:20251101T180918Z
LAST-MODIFIED:20251101T181913Z
UID:23772-1764428400-1764428400@foltvarro.hu
SUMMARY:Jótékonysági nap és játszóház\, Márkó
DESCRIPTION:
URL:https://foltvarro.hu/esemenyek/jotekonysagi-nap-es-jatszohaz-marko/
LOCATION:Orsetti Péter Kulturális Központ (Márkó)\, Kálvária utca\, Márkó\, 8441\, Hungary
CATEGORIES:Címlapra,Közös varrás
ATTACH;FMTTYPE=image/png:https://foltvarro.hu/wp-content/uploads/2025/11/Marko-2025-osz-cimlap-1.png
END:VEVENT
BEGIN:VEVENT
DTSTART;TZID=Europe/Budapest:20251129T150000
DTEND;TZID=Europe/Budapest:20251214T000000
DTSTAMP:20260421T200326
CREATED:20251122T142706Z
LAST-MODIFIED:20251122T142831Z
UID:23963-1764428400-1765670400@foltvarro.hu
SUMMARY:Folt-mix Foltvarró csoport kiállítása
DESCRIPTION:
URL:https://foltvarro.hu/esemenyek/folt-mix-foltvarro-csoport-kiallitasa/
LOCATION:Kámoni Arborétum\, Szent Imre herceg utca 84/B.\, Szombathely\, 9700\, Hungary
CATEGORIES:Címlapra
ATTACH;FMTTYPE=image/jpeg:https://foltvarro.hu/wp-content/uploads/2025/11/FOLT-MIX-meghivo-2025.11.29-cimlap.jpg
END:VEVENT
BEGIN:VEVENT
DTSTART;TZID=Europe/Budapest:20251129T150000
DTEND;TZID=Europe/Budapest:20251230T000000
DTSTAMP:20260421T200326
CREATED:20251121T184831Z
LAST-MODIFIED:20251121T184831Z
UID:23834-1764428400-1767052800@foltvarro.hu
SUMMARY:Foltvarró karácsony
DESCRIPTION:
URL:https://foltvarro.hu/esemenyek/foltvarro-karacsony/
LOCATION:Kossuth Művelődési Központ\, Cegléd\, Kossuth tér 5/a\, Cegléd\, 2700
CATEGORIES:Címlapra
ATTACH;FMTTYPE=image/jpeg:https://foltvarro.hu/wp-content/uploads/2025/11/Folton-Folt-20251129-cimlap.jpg
END:VEVENT
END:VCALENDAR