BEGIN:VCALENDAR
VERSION:2.0
PRODID:-//Foltvarrás - ECPv6.15.20//NONSGML v1.0//EN
CALSCALE:GREGORIAN
METHOD:PUBLISH
X-ORIGINAL-URL:https://foltvarro.hu
X-WR-CALDESC:Események Foltvarrás
REFRESH-INTERVAL;VALUE=DURATION:PT1H
X-Robots-Tag:noindex
X-PUBLISHED-TTL:PT1H
BEGIN:VTIMEZONE
TZID:Europe/Budapest
BEGIN:DAYLIGHT
TZOFFSETFROM:+0100
TZOFFSETTO:+0200
TZNAME:CEST
DTSTART:20240331T010000
END:DAYLIGHT
BEGIN:STANDARD
TZOFFSETFROM:+0200
TZOFFSETTO:+0100
TZNAME:CET
DTSTART:20241027T010000
END:STANDARD
BEGIN:DAYLIGHT
TZOFFSETFROM:+0100
TZOFFSETTO:+0200
TZNAME:CEST
DTSTART:20250330T010000
END:DAYLIGHT
BEGIN:STANDARD
TZOFFSETFROM:+0200
TZOFFSETTO:+0100
TZNAME:CET
DTSTART:20251026T010000
END:STANDARD
BEGIN:DAYLIGHT
TZOFFSETFROM:+0100
TZOFFSETTO:+0200
TZNAME:CEST
DTSTART:20260329T010000
END:DAYLIGHT
BEGIN:STANDARD
TZOFFSETFROM:+0200
TZOFFSETTO:+0100
TZNAME:CET
DTSTART:20261025T010000
END:STANDARD
END:VTIMEZONE
BEGIN:VEVENT
DTSTART;TZID=Europe/Budapest:20250425T180000
DTEND;TZID=Europe/Budapest:20250425T180000
DTSTAMP:20260422T090421
CREATED:20250421T072145Z
LAST-MODIFIED:20250421T072625Z
UID:19914-1745604000-1745604000@foltvarro.hu
SUMMARY:Kölcsönhatások - a Modern Műhely alkotócsoport kiállítása
DESCRIPTION:
URL:https://foltvarro.hu/esemenyek/kolcsonhatasok-a-modern-muhely-alkotocsoport-kiallitasa/
LOCATION:KAPTÁR\, Révay köz 4.\, Budapest\, 1065\, Hungary
CATEGORIES:Címlapra
ATTACH;FMTTYPE=image/jpeg:https://foltvarro.hu/wp-content/uploads/2025/04/ModernMuhely-meghivo_cimlap.jpg
END:VEVENT
BEGIN:VEVENT
DTSTART;TZID=Europe/Budapest:20250426T000000
DTEND;TZID=Europe/Budapest:20250426T000000
DTSTAMP:20260422T090421
CREATED:20250413T201916Z
LAST-MODIFIED:20250413T201916Z
UID:19814-1745625600-1745625600@foltvarro.hu
SUMMARY:Fotók beküldése szívpárnákról és tarisznyákról
DESCRIPTION:Az Ikeának el kell számolnunk a tőlük kapott anyagok jótékonysági célú felhasználásával. Kérjük\, hogy aki vitt el anyagokat\, az 2025. április 26-ig küldje el az elkészített szívpárnákról/tarisznyákról és az átadásról készült fotót.
URL:https://foltvarro.hu/esemenyek/fotok-bekuldese-szivparnakrol-es-tarisznyakrol/
CATEGORIES:Határidő
END:VEVENT
BEGIN:VEVENT
DTSTART;TZID=Europe/Budapest:20250426T090000
DTEND;TZID=Europe/Budapest:20250426T090000
DTSTAMP:20260422T090421
CREATED:20250311T192109Z
LAST-MODIFIED:20250315T184738Z
UID:18837-1745658000-1745658000@foltvarro.hu
SUMMARY:Mezőfolt Foltvarró Klub közös varrása
DESCRIPTION:
URL:https://foltvarro.hu/esemenyek/mezofolt-foltvarro-klub-kozos-varrasa/
LOCATION:Petőfi Sándor Általános Iskola\, József Nádor u. 13\, Mezőfalva\, 2422\, Hungary
CATEGORIES:Címlapra,Közös varrás
ATTACH;FMTTYPE=image/jpeg:https://foltvarro.hu/wp-content/uploads/2025/03/mezofolt_cimlap-1.jpg
END:VEVENT
END:VCALENDAR